BEGIN:VCALENDAR
VERSION:2.0
PRODID:-//wp-events-plugin.com//5.99912//EN
TZID:Europe/Berlin
X-WR-TIMEZONE:Europe/Berlin
BEGIN:VEVENT
UID:5-11209@heimat-kultur.albverein.net
DTSTART;TZID=Europe/Berlin:20261204T180000
DTEND;TZID=Europe/Berlin:20261204T180000
DTSTAMP:20251215T093829Z
URL:https://heimat-kultur.albverein.net/events/bernhard-bitterwolf-schoene
 r-advent/
SUMMARY:Bernhard Bitterwolf - Schöner Advent
DESCRIPTION:Programm: Schöner Advent\n\nEinlass: 17:00 Uhr
CATEGORIES:Heimat und Kultur
LOCATION:Sängerheim der Chorvereinigung Sängerkranz Aalen-Hofherrnweiler 
 e. V.\, Hofherrnstraße 47\, Aalen-Hofherrnweiler\, 73434\, Deutschland
GEO:48.834917;10.064219
X-APPLE-STRUCTURED-LOCATION;VALUE=URI;X-ADDRESS=Hofherrnstraße 47\, Aalen-
 Hofherrnweiler\, 73434\, Deutschland;X-APPLE-RADIUS=100;X-TITLE=Sängerhei
 m der Chorvereinigung Sängerkranz Aalen-Hofherrnweiler e. V.:geo:48.83491
 7,10.064219
END:VEVENT
BEGIN:VTIMEZONE
TZID:Europe/Berlin
X-LIC-LOCATION:Europe/Berlin
BEGIN:STANDARD
DTSTART:20261025T020000
TZOFFSETFROM:+0200
TZOFFSETTO:+0100
TZNAME:CET
END:STANDARD
END:VTIMEZONE
END:VCALENDAR