BEGIN:VCALENDAR
VERSION:2.0
PRODID:-//wp-events-plugin.com//5.99912//EN
TZID:Europe/Berlin
X-WR-TIMEZONE:Europe/Berlin
BEGIN:VEVENT
UID:5-10952@heimat-kultur.albverein.net
DTSTART;TZID=Europe/Berlin:20261113T200000
DTEND;TZID=Europe/Berlin:20261113T200000
DTSTAMP:20250915T094130Z
URL:https://heimat-kultur.albverein.net/events/bettina-kaestle-ich-heisse-
 nicht-frau-kaechele/
SUMMARY:Bettina Kästle - Ich heiße nicht Frau Kächele!
DESCRIPTION:Programm: Ich heiße nicht Frau Kächele!\n\nEinlass: 18:30 Uhr
CATEGORIES:Heimat und Kultur
LOCATION:Vereinsheim Schlossscheuer\, Neuhausen/Fildern\, Klosterstraße 3\
 , Neuhausen auf den Fildern\, 73765\, Deutschland
GEO:48.682324;9.278764
X-APPLE-STRUCTURED-LOCATION;VALUE=URI;X-ADDRESS=Klosterstraße 3\, Neuhause
 n auf den Fildern\, 73765\, Deutschland;X-APPLE-RADIUS=100;X-TITLE=Vereins
 heim Schlossscheuer\, Neuhausen/Fildern:geo:48.682324,9.278764
END:VEVENT
BEGIN:VTIMEZONE
TZID:Europe/Berlin
X-LIC-LOCATION:Europe/Berlin
BEGIN:STANDARD
DTSTART:20261025T020000
TZOFFSETFROM:+0200
TZOFFSETTO:+0100
TZNAME:CET
END:STANDARD
END:VTIMEZONE
END:VCALENDAR