BEGIN:VCALENDAR
VERSION:2.0
PRODID:-//wp-events-plugin.com//5.99912//EN
TZID:Europe/Berlin
X-WR-TIMEZONE:Europe/Berlin
BEGIN:VEVENT
UID:5-11283@heimat-kultur.albverein.net
DTSTART;TZID=Europe/Berlin:20261107T193000
DTEND;TZID=Europe/Berlin:20261107T193000
DTSTAMP:20260122T102710Z
URL:https://heimat-kultur.albverein.net/events/claudia-pohel-gohts-no-2/
SUMMARY:Claudia Pohel - gohts no?!
DESCRIPTION:Programm: gohts no?!\n\nEinlass: 19:00 Uhr
CATEGORIES:Heimat und Kultur
LOCATION:Festsaal Greckenschloss\, Bad Friedrichshall-Kochendorf\, Lindenwe
 g 4\, Bad Friedrichshall-Kochendorf\, 74177\, Deutschland
GEO:49.223921;9.218864
X-APPLE-STRUCTURED-LOCATION;VALUE=URI;X-ADDRESS=Lindenweg 4\, Bad Friedrich
 shall-Kochendorf\, 74177\, Deutschland;X-APPLE-RADIUS=100;X-TITLE=Festsaal
  Greckenschloss\, Bad Friedrichshall-Kochendorf:geo:49.223921,9.218864
END:VEVENT
BEGIN:VTIMEZONE
TZID:Europe/Berlin
X-LIC-LOCATION:Europe/Berlin
BEGIN:STANDARD
DTSTART:20261025T020000
TZOFFSETFROM:+0200
TZOFFSETTO:+0100
TZNAME:CET
END:STANDARD
END:VTIMEZONE
END:VCALENDAR