BEGIN:VCALENDAR
VERSION:2.0
PRODID:-//wp-events-plugin.com//5.99912//EN
TZID:Europe/Berlin
X-WR-TIMEZONE:Europe/Berlin
BEGIN:VEVENT
UID:5-11226@heimat-kultur.albverein.net
DTSTART;TZID=Europe/Berlin:20260613T193000
DTEND;TZID=Europe/Berlin:20260613T230000
DTSTAMP:20260421T123412Z
URL:https://heimat-kultur.albverein.net/events/danzfest/
SUMMARY:Danzfest\, Sigmaringendorf
DESCRIPTION:Zum Danzfeschd anlässlich der Hauptversammlung des Schwäbisch
 en Albvereins in Sigmaringendorf sind alle Tänzerinnen und Tänzer eingel
 aden\, die endlich wieder ihre Runden auf dem Tanzboden drehen möchten. E
 gal ob jung oder alt\, Anfänger oder Fortgeschrittene - alle sind herzlic
 h willkommen und eingeladen\, sich zu unterhalten\, zu tanzen\, neue Freun
 dschaften zu knüpfen und alte zu pflegen und unsere traditionelle Kultur 
 zu leben.\n\nEs spielen die Musikgruppen "it grad wäga holz guat" und Dan
 zbändel. Für Verpflegung vor Ort ist gesorgt.\n\n \n\nWer vorher gerne 
 noch etwas üben möchte\, kann von 16:30 bis 20 Uhr bei einem Tanzworksho
 p "Fit fürs Danzfest" teilnehmen.\n\nFlyer zum Danzfescht in Sigmaringend
 orf
CATEGORIES:Heimat und Kultur
LOCATION:Donau Lauchert Halle\, Laucertbühl 9\, Sigmaringendorf\, Deutschl
 and
GEO:48.067936;9.261782
X-APPLE-STRUCTURED-LOCATION;VALUE=URI;X-ADDRESS=Laucertbühl 9\, Sigmaringe
 ndorf\, Deutschland;X-APPLE-RADIUS=100;X-TITLE=Donau Lauchert Halle:geo:48
 .067936,9.261782
END:VEVENT
BEGIN:VTIMEZONE
TZID:Europe/Berlin
X-LIC-LOCATION:Europe/Berlin
BEGIN:DAYLIGHT
DTSTART:20260329T030000
TZOFFSETFROM:+0100
TZOFFSETTO:+0200
TZNAME:CEST
END:DAYLIGHT
END:VTIMEZONE
END:VCALENDAR